BEGIN:VCALENDAR
VERSION:2.0
PRODID:spatie/icalendar-generator
DESCRIPTION:Évènements de Le Hangar des Conseils
X-WR-CALDESC:Évènements de Le Hangar des Conseils
REFRESH-INTERVAL;VALUE=DURATION:PT1440M
X-PUBLISHED-TTL:PT1440M
BEGIN:VTIMEZONE
TZID:Europe/Paris
BEGIN:STANDARD
DTSTART:20201025T030000Z
TZOFFSETFROM:+0200
TZOFFSETTO:+0100
END:STANDARD
BEGIN:DAYLIGHT
DTSTART:20210328T020000Z
TZOFFSETFROM:+0100
TZOFFSETTO:+0200
END:DAYLIGHT
BEGIN:STANDARD
DTSTART:20211031T030000Z
TZOFFSETFROM:+0200
TZOFFSETTO:+0100
END:STANDARD
END:VTIMEZONE
BEGIN:VTIMEZONE
TZID:UTC
BEGIN:STANDARD
DTSTART:20250723T194649Z
TZOFFSETFROM:+0000
TZOFFSETTO:+0000
END:STANDARD
END:VTIMEZONE
BEGIN:VEVENT
UID:2-2
DTSTAMP:20260419T194649Z
SUMMARY:Manag'color Anna Le BERRE
LOCATION:
ORGANIZER;CN=Elise:MAILTO:elise.p@elieconseiletcom.fr
DTSTART;TZID=Europe/Paris;VALUE=DATE:20210709
DTEND;TZID=Europe/Paris;VALUE=DATE:20210710
X-ALT-DESC;FMTTYPE=TEXT/HTML:
CATEGORIES:General
URL;VALUE=URI:https://lehangardesconseils.fr/mc-events/managcolor-anna-le-b
 erre/
METHOD:PUBLISH
END:VEVENT
END:VCALENDAR